BEGIN:VCALENDAR
VERSION:2.0
PRODID:-//Prairie Skies Integration Network - ECPv6.1.3//NONSGML v1.0//EN
CALSCALE:GREGORIAN
METHOD:PUBLISH
X-WR-CALNAME:Prairie Skies Integration Network
X-ORIGINAL-URL:https://psinetwork.ca
X-WR-CALDESC:Events for Prairie Skies Integration Network
REFRESH-INTERVAL;VALUE=DURATION:PT1H
X-Robots-Tag:noindex
X-PUBLISHED-TTL:PT1H
BEGIN:VTIMEZONE
TZID:America/Regina
BEGIN:STANDARD
TZOFFSETFROM:-0600
TZOFFSETTO:-0600
TZNAME:CST
DTSTART:20250101T000000
END:STANDARD
TZID:America/Toronto
BEGIN:DAYLIGHT
TZOFFSETFROM:-0500
TZOFFSETTO:-0400
TZNAME:EDT
DTSTART:20220313T070000
END:DAYLIGHT
BEGIN:STANDARD
TZOFFSETFROM:-0400
TZOFFSETTO:-0500
TZNAME:EST
DTSTART:20221106T060000
END:STANDARD
BEGIN:DAYLIGHT
TZOFFSETFROM:-0500
TZOFFSETTO:-0400
TZNAME:EDT
DTSTART:20230312T070000
END:DAYLIGHT
BEGIN:STANDARD
TZOFFSETFROM:-0400
TZOFFSETTO:-0500
TZNAME:EST
DTSTART:20231105T060000
END:STANDARD
END:VTIMEZONE
BEGIN:VEVENT
DTSTART;TZID=America/Regina:20250212T120000
DTEND;TZID=America/Regina:20250212T170000
DTSTAMP:20260425T063348
CREATED:20241224T183902Z
LAST-MODIFIED:20250124T022510Z
UID:5449-1739361600-1739379600@psinetwork.ca
SUMMARY:Community Conversation on Immigration
DESCRIPTION:The Community Conversation on Immigration is a collaborative event designed to foster meaningful dialogue and build stronger connections between newcomers and host communities in South-Central Saskatchewan. Taking place in Moose Jaw and scheduled for February 12\, 2025\, the goal of the event is to promote mutual understanding\, address integration challenges\, and explore actionable solutions to create a welcoming environment for all. \nGet your FREE TICKETS now! \nThis is a unique opportunity to make a lasting impact on our community\, and we would love for you to be part of this important conversation. Please get your  FREE TICKETS to secure your spot and join us to create more dynamic\, inclusive\, and thriving communities. \nCommunity Conversation on Immigration Tickets | Eventbrite
URL:https://psinetwork.ca/event/community-conversation-on-immigration/
LOCATION:Moose Jaw Events Centre\, 110 1st Avenue NW\, Moose Jaw\, Saskatchewan\, S6H 3L9\, Canada
ATTACH;FMTTYPE=image/png:https://psinetwork.ca/wp-content/uploads/2024/12/Community-Conversation-on-Immigration_QR-Code-min.png
ORGANIZER;CN="Prairie%20Skies%20Integration%20Network":MAILTO:connect@psinetwork.ca
END:VEVENT
BEGIN:VEVENT
DTSTART;TZID=America/Toronto:20230916T140000
DTEND;TZID=America/Toronto:20230916T160000
DTSTAMP:20260425T063348
CREATED:20230712T221304Z
LAST-MODIFIED:20230816T192231Z
UID:5217-1694872800-1694880000@psinetwork.ca
SUMMARY:Newcomer Open House
DESCRIPTION:Calling all newcomers in Moose Jaw and surrounding areas! You are invited to our Newcomer Open House event  titled TALK TO US! (Hosted by Prairie Skies’ Newcomer Advisory Council\, the IAT) \nJoin us in-person or via Zoom as we explore topical issues such as “Access to Information” & Community Support/ Social Connections as it pertains to newcomers residing in our communities. \nLocation: Hybrid Meeting at Newcomer Welcome Centre – 432 Main Str. N Moose Jaw \nRegister in advance for the event:\nhttps://us02web.zoom.us/meeting/register/tZUvceqtqDwuHtch6SG_Mx-DtHr69047N_mq
URL:https://psinetwork.ca/event/newcomer-open-house-september-16-2023/
LOCATION:Moose Jaw Newcomer Welcome Centre\, 432 Main Street N\, Moose Jaw\, Saskatchewan\, Canada
ATTACH;FMTTYPE=image/jpeg:https://psinetwork.ca/wp-content/uploads/2023/07/Talk-To-Us-Sept-16-2023-1.jpg
END:VEVENT
BEGIN:VEVENT
DTSTART;TZID=America/Toronto:20230209T093000
DTEND;TZID=America/Toronto:20230209T170000
DTSTAMP:20260425T063348
CREATED:20221207T181013Z
LAST-MODIFIED:20230131T170323Z
UID:4905-1675935000-1675962000@psinetwork.ca
SUMMARY:Employing Newcomers Forum
DESCRIPTION:Are you an Employer or an Employment Service Provider in Moose Jaw and surrounding area? Are you involved in policy around employment of newcomers? \nJoin us in-person or virtually\, on February 9\, 2023 to explore how rural and small centre Saskatchewan can enhance our businesses\, economies and communities through more welcoming workplaces and employment policy. \nREGISTER NOW
URL:https://psinetwork.ca/event/employing-newcomers-forum/
LOCATION:Heritage Inn Hotel & Convention Centre\, 1590 Main St N\, Moose Jaw\, Saskatchewan\, S6J 1L3\, Canada
ATTACH;FMTTYPE=image/jpeg:https://psinetwork.ca/wp-content/uploads/2022/12/Employment-of-Newcomers-Forum.jpg
ORGANIZER;CN="Prairie%20Skies%20Integration%20Network":MAILTO:connect@psinetwork.ca
END:VEVENT
BEGIN:VEVENT
DTSTART;TZID=America/Toronto:20221126T140000
DTEND;TZID=America/Toronto:20221126T160000
DTSTAMP:20260425T063348
CREATED:20221031T192830Z
LAST-MODIFIED:20221031T192912Z
UID:4896-1669471200-1669478400@psinetwork.ca
SUMMARY:Newcomer Open House - Nov 2022 Edition
DESCRIPTION:TALK TO US! A Newcomer Open House Hosted by Prairie Skies’ Newcomer Council\, the IAT\n\n\n\n\nWe’re happy to invite you to our second Open House event. All newcomers in the South-Central Region of Saskatchewan (Moose Jaw and area) are invited to attend in person or through Zoom. \nWe want to hear your thoughts about:\n* Access to Information\n* Housing \nYou’ll also learn a bit about our Newcomer Advisory Council [formerly the Immigrant Advisory Table (IAT)]\, which is Prairie Skies’ body of expert advisors (immigrant newcomers) who inform our work.\nThere will also be short presentation about services in the region that help newcomers get settled. \n\nLocation: Hybrid Meeting at Newcomer Welcome Centre – 432 Main Str. N Moose Jaw\n\n\n\nRegister in advance for the event:\nhttps://us02web.zoom.us/meeting/register/tZUvceqtqDwuHtch6SG_Mx-DtHr69047N_mq
URL:https://psinetwork.ca/event/newcomer-open-house-nov-2022-edition/
LOCATION:Saskatchewan
ATTACH;FMTTYPE=image/jpeg:https://psinetwork.ca/wp-content/uploads/2022/10/Talk-To-Us-Nov-26.jpg
END:VEVENT
BEGIN:VEVENT
DTSTART;TZID=America/Toronto:20220917T140000
DTEND;TZID=America/Toronto:20220917T160000
DTSTAMP:20260425T063348
CREATED:20220819T160643Z
LAST-MODIFIED:20220906T173010Z
UID:4843-1663423200-1663430400@psinetwork.ca
SUMMARY:Newcomer Open House Event
DESCRIPTION:You are invited to our town hall style event titled TALK TO US! (A Newcomer Open House hosted by Prairie Skies’ Newcomer Council\, the IAT) \nThe event is designed to give members of our Newcomer Council (IAT) and newcomers in general a chance to be heard on their experiences as newcomers living in our region. We encourage newcomers living in Moose Jaw and region to attend the event as it promises to be very interesting and beneficial. \nWe will be discussing 3 major areas as it pertains to newcomers\, these are:\n* Employment \n* Housing \n* Health \nLocation: Hybrid Meeting at Newcomer Welcome Centre – 432 Main Str. N Moose Jaw \nRegister in advance for the event:\nhttps://us02web.zoom.us/meeting/register/tZUvceqtqDwuHtch6SG_Mx-DtHr69047N_mq
URL:https://psinetwork.ca/event/newcomer-open-house-event/
LOCATION:Saskatchewan
ATTACH;FMTTYPE=image/jpeg:https://psinetwork.ca/wp-content/uploads/2022/08/Talk-To-Us.jpg
END:VEVENT
BEGIN:VEVENT
DTSTART;TZID=America/Toronto:20220409T140000
DTEND;TZID=America/Toronto:20220409T150000
DTSTAMP:20260425T063348
CREATED:20220309T032714Z
LAST-MODIFIED:20220609T201747Z
UID:4596-1649512800-1649516400@psinetwork.ca
SUMMARY:Join our Newcomer Council--An Info Session on the Immigrant Advisory Table
DESCRIPTION:An Info Session for newcomers to learn about joining our team of immigrant newcomers who support Prairie Skies’ work. Join us to learn more about the Immigrant Advisory Table (IAT). This is Prairie Skies’ body of expert advisors – immigrant newcomers – who inform our work. \nWould you like to… \n\nput forward your community’s interests and concerns\ngain impactful Canadian volunteer experience\ndevelop friendships\nbuild knowledge and expertise about the local community\ninform our region’s ability to welcome newcomers\n\nClick the image below to register \n \n 
URL:https://psinetwork.ca/event/an-info-session-on-the-immigrant-advisory-table/
LOCATION:Saskatchewan
ATTACH;FMTTYPE=image/png:https://psinetwork.ca/wp-content/uploads/2022/03/Poster_2-IAT-Info-Session_Official.png
ORGANIZER;CN="Prairie%20Skies%20Integration%20Network":MAILTO:connect@psinetwork.ca
END:VEVENT
END:VCALENDAR