BEGIN:VCALENDAR
VERSION:2.0
PRODID:-//Prairie Skies Integration Network - ECPv6.1.3//NONSGML v1.0//EN
CALSCALE:GREGORIAN
METHOD:PUBLISH
X-WR-CALNAME:Prairie Skies Integration Network
X-ORIGINAL-URL:https://psinetwork.ca
X-WR-CALDESC:Events for Prairie Skies Integration Network
REFRESH-INTERVAL;VALUE=DURATION:PT1H
X-Robots-Tag:noindex
X-PUBLISHED-TTL:PT1H
BEGIN:VTIMEZONE
TZID:America/Regina
BEGIN:STANDARD
TZOFFSETFROM:-0600
TZOFFSETTO:-0600
TZNAME:CST
DTSTART:20250101T000000
END:STANDARD
TZID:America/Toronto
BEGIN:DAYLIGHT
TZOFFSETFROM:-0500
TZOFFSETTO:-0400
TZNAME:EDT
DTSTART:20260308T070000
END:DAYLIGHT
BEGIN:STANDARD
TZOFFSETFROM:-0400
TZOFFSETTO:-0500
TZNAME:EST
DTSTART:20261101T060000
END:STANDARD
END:VTIMEZONE
BEGIN:VEVENT
DTSTART;TZID=America/Regina:20251115T153000
DTEND;TZID=America/Regina:20251115T170000
DTSTAMP:20260425T092439
CREATED:20251008T165356Z
LAST-MODIFIED:20251008T165356Z
UID:5483-1763220600-1763226000@psinetwork.ca
SUMMARY:Newcomer Open House
DESCRIPTION:Prairie Skies invites newcomers to our upcoming Newcomer Advisory Council (NAC) Open House! \nThe focus for the session is Employment\, with a local HR expert joining us to answer questions and share practical advice about understanding workplace expectations and entering the local job market. It’s a great opportunity for newcomers to connect\, learn\, and have their questions answered in a welcoming and supportive space. \nThe event will be held in a hybrid format; in-person at 432 Main St. N\, Moose Jaw and Online (via Zoom): https://us02web.zoom.us/j/82635207390?pwd=nHajyMRJfAfX38bTrkUbaz4bFnytSV.1 \nEveryone is welcome\, feel free to share with friends\, family\, or anyone who might be interested!
URL:https://psinetwork.ca/event/newcomer-open-house/
LOCATION:Moose Jaw Newcomer Welcome Centre\, 432 Main Street N\, Moose Jaw\, Saskatchewan\, Canada
ATTACH;FMTTYPE=image/jpeg:https://psinetwork.ca/wp-content/uploads/2025/10/Nov-2025-NAC-Open-House.jpg
END:VEVENT
BEGIN:VEVENT
DTSTART;TZID=America/Toronto:20260320T100000
DTEND;TZID=America/Toronto:20260320T120000
DTSTAMP:20260425T092439
CREATED:20260210T171732Z
LAST-MODIFIED:20260210T172349Z
UID:5528-1774000800-1774008000@psinetwork.ca
SUMMARY:March Out Racism
DESCRIPTION:Join us for a youth-focused anti-racism event held in commemoration of the International Day for the Elimination of Racial Discrimination. This meaningful program creates space for young people to learn\, ask questions\, and engage in honest conversations about racism\, inclusion\, and belonging. \nThe event will feature Khodi Dill\, an anti-racism educator\, author\, and spoken word artist\, who will guide students through thoughtful reflection and dialogue using storytelling\, lived experience\, and interactive discussion. Khodi’s work encourages young people to think critically about their role in challenging racism and building more inclusive communities. \nThis event is an opportunity to listen\, learn\, and reflect\, while taking part in conversations that promote respect\, understanding\, and a sense of belonging for everyone. Together\, we aim to support youth in becoming active contributors to welcoming and equitable communities.
URL:https://psinetwork.ca/event/march-out-racism/
LOCATION:Peacock Collegiate Institute\, 145 Ross St E\, Moose Jaw\, Saskatchewan\, S6H 0S3\, Canada
ATTACH;FMTTYPE=image/jpeg:https://psinetwork.ca/wp-content/uploads/2026/02/Poster_Reduced.jpg
ORGANIZER;CN="Prairie%20Skies%20Integration%20Network":MAILTO:connect@psinetwork.ca
END:VEVENT
END:VCALENDAR